BEGIN:VCALENDAR
VERSION:2.0
PRODID:-//Energica Club NL - ECPv6.10.0//NONSGML v1.0//EN
CALSCALE:GREGORIAN
METHOD:PUBLISH
X-WR-CALNAME:Energica Club NL
X-ORIGINAL-URL:https://energicaclub.nl
X-WR-CALDESC:Evenementen voor Energica Club NL
BEGIN:VTIMEZONE
TZID:Europe/Amsterdam
BEGIN:DAYLIGHT
TZOFFSETFROM:+0100
TZOFFSETTO:+0200
TZNAME:CEST
DTSTART:20240331T010000
END:DAYLIGHT
BEGIN:STANDARD
TZOFFSETFROM:+0200
TZOFFSETTO:+0100
TZNAME:CET
DTSTART:20241027T010000
END:STANDARD
END:VTIMEZONE
BEGIN:VEVENT
DTSTART;TZID=Europe/Amsterdam:20240901T110000
DTEND;TZID=Europe/Amsterdam:20240901T180000
DTSTAMP:20260424T071843
CREATED:20240328T091813Z
LAST-MODIFIED:20240807T105558Z
UID:7060-1725188400-1725213600@energicaclub.nl
SUMMARY:ITAL DAG 2024
DESCRIPTION:Energica Club Nederland aanwezig op Italdag!\nOp zondag 1 september van 11.00 uur tot 18.00 uur vindt op het binnenterrein van TT Circuit Assen de Italdag plaats. Deze dag trekt al jaren vele gepassioneerde liefhebbers van Italiaanse motoren en lifestyle. Dit gratis festival wordt georganiseerd door Ducati Club Nederland in samenwerking met de andere Italiaanse motorclubs (o.a. Aprilia Riders Association). Naast diverse exposanten zijn ook de KNMV en Motorrijders Actiegroep (MAG) aanwezig. \nEnergica Club Nederland is met een stand en een mooie line-up aan Energica’s aanwezig. \nRide Out en ‘Foto van je moto’\nOp 1 september kan je vanuit Ducati Amsterdam en Star Twin Loenen deelnemen aan de Ride Out. Ontvangst is om 09.30 uur\, gratis ontbijt om 10.00 uur en gezamenlijk vertrek is om 11.00. Aanmelden voor de Ride Out kan via RideOut@ducaticlub.nl. De GPX route is te downloaden op www.italdag.nl Eenmaal op Assen kan je door een professionele fotograaf een foto van jouw moto laten maken. Voor wie dat wil is er een helmengardarobe aanwezig. \nDemoritten\nOp het festivalterrein is het mogelijk een demorit te boeken. O.a. Ducati zal aanwezig zijn met de nieuwste modellen. \nConcours\nEén van de hoogtepunten van de dag is het inmiddels ongeëvenaarde concours. Een prijsuitreiking voor de meest unieke en prachtige youngtimer en oldtimer zal ook dit jaar weer plaatsvinden. Nieuw dit jaar is dat ook bezoekers kunnen stemmen voor de publieksprijs. Alle winnaars worden gehuldigd op het podium.\nVanaf dat podium zullen ook diverse presentaties worden gehouden. O.a. het aankomend 100-jarig bestaan van TT circuit Assen zal veel aandacht krijgen. \nNatuurlijk ontbreken ook heerlijke Italiaanse hapjes\, koffie en muziek niet. \nAl met al\, een feest met allure. Vier je passie en mis dit festival niet. \nZie www.italdag.nl voor meer informatie of mail italdag@ducaticlub.nl. \nProgramma\n11.00 uur – 13.00 uur Selectie deelnemers concours (oldtimers\, youngtimers & publieksprijs) door jury \n11.00 uur – 18.00 uur\n– Helmengarderobe\n– Op de foto met je moto\n– Testritten op diverse demomodellen van o.a. Ducati\n– Italiaanse muziek en catering\n– Presentatie 100-jarig bestaan TT Circuit Assen\n– Stemmen op de mooiste motor \n14.00 Concours prijsuitreiking
URL:https://energicaclub.nl/event/ital-dag/
LOCATION:TT Assen\, De Haar 9\, Assen\, 9405TE\, Nederland
ATTACH;FMTTYPE=image/png:https://energicaclub.nl/wp-content/uploads/2024/03/Italdag-2024-A2-v3-e1723027955431.png
ORGANIZER;CN="ECN":MAILTO:info@energicaclub.nl
END:VEVENT
BEGIN:VEVENT
DTSTART;VALUE=DATE:20240909
DTEND;VALUE=DATE:20240911
DTSTAMP:20260424T071843
CREATED:20240220T191500Z
LAST-MODIFIED:20240220T191500Z
UID:6979-1725840000-1726012799@energicaclub.nl
SUMMARY:Assen 2-daagse Vrijrijden - Bikers'Days
DESCRIPTION:2 dagen vrij rijden op Assen. Eventueel is 1 dag bespreekbaar als een ander clublid de 2de dag wil gebruiken. \nHet betreft vrij rijden op 4 niveaus\, maar circuit ervaring is vereist. Je moet zelf in staat zijn veilig te rijden en weten welke lijn je dient aan te houden. \nEnergica Club Nederland verzorgt de laadinfrastructuur etc. \nWe zijn vanaf 8 september einde dag welkom. \n  \nEen kleine disclaimer die voor alle circuitdagen geldt; \nBoek geen dagen die hier niet op de clubsite staan. (Zonder safetymateriaal van de club\, laadinfra en aanmelding bij racecontrol mag je anders de baan niet op)\nRijd je één of twee keer mee op een circuitdag? Koop dat een aanvullend clubkaartje in webshop als bijdrage voor alle circuit materialen.\nRijd je vaker een circuitdag? Dat is het voordeliger om Plus of Pro lid te worden en op die manier bij te dragen aan de benodigde extra zaken specifiek voor het circuit. \n		\n						\n						\n					\n			\n						\n				\n							\n			\n		\n						\n				\n					\n		\n					\n		\n				\n						\n					\n			\n						\n				\n					Aanmelden voor een circuit event?				\n				\n				\n						\n					\n			\n						\n				\n							\n\n			\n						\n\n									\n						\n							Stap 1.						\n					\n				\n									\n						Circuit evenementen zijn alleen voor leden. Heb je een Plus of Pro lidmaatschap\, dan kun je jezelf direct inschrijven. Als basislid heb je een extra dagkaartje nodig uit de clubshop. Hiermee betaal je jouw bijdrage voor de extra materialen die de club aanschaft.					 \n				\n			\n			\n		\n						\n				\n					\n		\n				\n			\n						\n				\n							\n\n			\n						\n\n									\n						\n							Stap 2.						\n					\n				\n									\n						Ga via de link onder dit blok naar de website van de organisator van het specifieke evenement. Je schrijft je daar rechtstreeks in.					 \n				\n			\n			\n		\n						\n				\n					\n		\n				\n			\n						\n				\n							\n\n			\n						\n\n									\n						\n							Stap 3.						\n					\n				\n									\n						Vul het RSVP formuliertje onderaan deze pagina in. Dan houden we rekening met je komst en wordt je aangemeld bij Race Control.					 \n				\n			\n			\n		\n						\n				\n					\n		\n					\n		\n					\n		\n					\n		\n				\n						\n					\n			\n						\n				\n					Wat regelt de club tijdens circuit events voor haar leden?				\n				\n				\n						\n					\n			\n						\n				\n					Gebruik DC snelladers waar nodig  				\n				\n				\n				\n					Gebruik van AC laadtrailer waar nodig 				\n				\n				\n				\n					Goedgekeurd veiligheids protocol per circuit 				\n				\n				\n				\n					Afstemming racecontrol 				\n				\n				\n				\n					Specifieke veiligheids briefing voor elektrische rijders  				\n				\n					\n		\n				\n			\n						\n				\n					Additionele veiligheidsmiddelen op paddock en bij Marshals. 				\n				\n				\n				\n					Schaduwtenten bij meerdere deelnemers. 				\n				\n				\n				\n					Koffie en gezelligheid. 				\n				\n					\n		\n					\n		\n					\n		\n					\n		\n				\n		\n 
URL:https://energicaclub.nl/event/assen-2-daagse-vrijrijden-bikersdays-2/
LOCATION:TT Assen\, De Haar 9\, Assen\, 9405TE\, Nederland
CATEGORIES:Circuit,TT Assen,Vrij Rijden
ATTACH;FMTTYPE=image/jpeg:https://energicaclub.nl/wp-content/uploads/2021/02/pirellidag-1-scaled.jpg
ORGANIZER;CN="ECN":MAILTO:info@energicaclub.nl
END:VEVENT
BEGIN:VEVENT
DTSTART;TZID=Europe/Amsterdam:20240927T100000
DTEND;TZID=Europe/Amsterdam:20240927T163000
DTSTAMP:20260424T071843
CREATED:20240823T113207Z
LAST-MODIFIED:20240823T113359Z
UID:7124-1727431200-1727454600@energicaclub.nl
SUMMARY:Toertocht veiligheid en voertuigbeheersing
DESCRIPTION:Heb je zin om vrijdag 27 september mee te rijden in deze bijzondere toertocht?\nSchrijf je dan hier snel in! \nTijdens de toertocht door het prachtige gebied van de Lemelerberg en Sallandse Heuvelrug worden we begeleidt door Henri de Roo op zijn speciale Experia.\nHenri is als motorrijinstructeur dagelijks bezig motorrijders zich bewust te laten zijn van hun veiligheid.\nTijdens de toertocht besteden we aandacht aan voertuigbeheersing\, rijden in groepen (cascade) en zicht op gevaren. \nOverzicht van de toertocht en activiteiten is in concept bijgevoegd: EnergicaClub NL VRO Mini en Toertocht 27-09-24\nSnelladers zijn in de nabijheid aanwezig. \nJe begrijpt dat de groep niet al te groot kan zijn om iedereen de benodigde aandacht te kunnen geven.\nWe sturen aan op een zo’n 10 deelnemers (zie ook de poll van 17-07-2024 in de Energica Club WhatsApp groep)\nDus wees er snel bij. \nDeelname is gratis. De kosten voor de instructeur wordt deels door de Energica Club i.s.m. met een sponsor gedragen.\nLunch is voor eigen rekening. \nLaat je snel weten of je meegaat ? Liefst voor 6 september zodat het programma op het aantal deelnemers afgestemd kan worden. \nP.s.: deze speciale toertocht wordt georganiseerd door Thierry\, Anja en Arne.
URL:https://energicaclub.nl/event/toertocht-veiligheid-en-voertuigbeheersing/
LOCATION:GoodToSeeYou\, Sportlaan 34\, Dedemsvaart\, 7701 VR\, Nederland
CATEGORIES:binnenland,Touring,VRO
ATTACH;FMTTYPE=image/png:https://energicaclub.nl/wp-content/uploads/2024/08/henrideroo2-1.png
ORGANIZER;CN="ECN":MAILTO:info@energicaclub.nl
END:VEVENT
END:VCALENDAR