BEGIN:VCALENDAR
VERSION:2.0
PRODID:-//Energica Club NL - ECPv6.10.0//NONSGML v1.0//EN
CALSCALE:GREGORIAN
METHOD:PUBLISH
X-WR-CALNAME:Energica Club NL
X-ORIGINAL-URL:https://energicaclub.nl
X-WR-CALDESC:Evenementen voor Energica Club NL
BEGIN:VTIMEZONE
TZID:Europe/Amsterdam
BEGIN:DAYLIGHT
TZOFFSETFROM:+0100
TZOFFSETTO:+0200
TZNAME:CEST
DTSTART:20240331T010000
END:DAYLIGHT
BEGIN:STANDARD
TZOFFSETFROM:+0200
TZOFFSETTO:+0100
TZNAME:CET
DTSTART:20241027T010000
END:STANDARD
END:VTIMEZONE
BEGIN:VEVENT
DTSTART;VALUE=DATE:20240222
DTEND;VALUE=DATE:20240226
DTSTAMP:20260424T172437
CREATED:20240124T115443Z
LAST-MODIFIED:20240218T101906Z
UID:6950-1708560000-1708905599@energicaclub.nl
SUMMARY:MOTORbeurs Utrecht
DESCRIPTION:De grootste motorbeurs van Nederland en Energica Club Nederland is er weer bij! \nMet een aantal enthousiaste leden bemannen we stand 09.D018 in hal 9 \nAl meer dan 35 jaar is MOTORbeurs Utrecht hét trefpunt voor motorliefhebbers. Daarom is van 22 tot en met 25 februari 2024 Jaarbeurs dé plek waar je als motorliefhebber moet zijn. \nEen unieke mix van de nieuwste motoren van importeurs\, een divers aanbod occasions\, de nieuwste kleding & accessoires\, diverse clubs\, verenigingen én goede aanbiedingen. Ook de spectaculaire shows en activiteiten worden zeker niet overgeslagen en zorgen voor de benodigde adrenaline. Het belooft een spetterende editie te worden\, die je niet mag missen. Met meer dan 50.000 m2 motorplezier om (aspirant) motorrijders te inspireren bij de vraag: \nWat ga jij dit seizoen met je motor doen?\nJe kunt kaarten aanschaffen via de motorbeurs site\, maar er lopen ook diverse kortingsacties\, bijv. via de KNMV\, dus houd je mail in de gaten.
URL:https://energicaclub.nl/event/motorbeurs-utrecht-2/
LOCATION:Jaarbeurs Utrecht\, Jaarbeursplein 6\, Utrecht\, Utrecht\, 3521 AL\, Nederland
ATTACH;FMTTYPE=image/png:https://energicaclub.nl/wp-content/uploads/2023/01/motorbeurs.png
ORGANIZER;CN="ECN":MAILTO:info@energicaclub.nl
END:VEVENT
END:VCALENDAR